BEGIN:VCALENDAR
VERSION:2.0
PRODID:-//NaturFreunde Radgruppe Stuttgart e.V. - ECPv6.15.20//NONSGML v1.0//EN
CALSCALE:GREGORIAN
METHOD:PUBLISH
X-WR-CALNAME:NaturFreunde Radgruppe Stuttgart e.V.
X-ORIGINAL-URL:https://naturfreunde-radgruppe-stuttgart.de
X-WR-CALDESC:Veranstaltungen für NaturFreunde Radgruppe Stuttgart e.V.
REFRESH-INTERVAL;VALUE=DURATION:PT1H
X-Robots-Tag:noindex
X-PUBLISHED-TTL:PT1H
BEGIN:VTIMEZONE
TZID:Europe/Berlin
BEGIN:DAYLIGHT
TZOFFSETFROM:+0100
TZOFFSETTO:+0200
TZNAME:CEST
DTSTART:20250330T010000
END:DAYLIGHT
BEGIN:STANDARD
TZOFFSETFROM:+0200
TZOFFSETTO:+0100
TZNAME:CET
DTSTART:20251026T010000
END:STANDARD
BEGIN:DAYLIGHT
TZOFFSETFROM:+0100
TZOFFSETTO:+0200
TZNAME:CEST
DTSTART:20260329T010000
END:DAYLIGHT
BEGIN:STANDARD
TZOFFSETFROM:+0200
TZOFFSETTO:+0100
TZNAME:CET
DTSTART:20261025T010000
END:STANDARD
BEGIN:DAYLIGHT
TZOFFSETFROM:+0100
TZOFFSETTO:+0200
TZNAME:CEST
DTSTART:20270328T010000
END:DAYLIGHT
BEGIN:STANDARD
TZOFFSETFROM:+0200
TZOFFSETTO:+0100
TZNAME:CET
DTSTART:20271031T010000
END:STANDARD
END:VTIMEZONE
BEGIN:VEVENT
DTSTART;TZID=Europe/Berlin:20260423T180000
DTEND;TZID=Europe/Berlin:20260423T210000
DTSTAMP:20260423T061917
CREATED:20260326T221418Z
LAST-MODIFIED:20260328T121503Z
UID:4858-1776967200-1776978000@naturfreunde-radgruppe-stuttgart.de
SUMMARY:Do. 23.04.26 Radtreff 1
DESCRIPTION:Radtreff 1 – gemütlich bis leicht sportlich. \nTreffpunkt: 18:00 Uhr\, Feuersee\, S-Bahn-Aufzug oben. \nKosten: Keine. \nInfo RT: Reinhold Bloom 0176 42 52 53 88.
URL:https://naturfreunde-radgruppe-stuttgart.de/event/do-23-04-26-radtreff-1/
CATEGORIES:Radtreff
END:VEVENT
END:VCALENDAR