BEGIN:VCALENDAR
VERSION:2.0
PRODID:-//NaturFreunde Radgruppe Stuttgart e.V. - ECPv6.15.20//NONSGML v1.0//EN
CALSCALE:GREGORIAN
METHOD:PUBLISH
X-WR-CALNAME:NaturFreunde Radgruppe Stuttgart e.V.
X-ORIGINAL-URL:https://naturfreunde-radgruppe-stuttgart.de
X-WR-CALDESC:Veranstaltungen für NaturFreunde Radgruppe Stuttgart e.V.
REFRESH-INTERVAL;VALUE=DURATION:PT1H
X-Robots-Tag:noindex
X-PUBLISHED-TTL:PT1H
BEGIN:VTIMEZONE
TZID:Europe/Berlin
BEGIN:DAYLIGHT
TZOFFSETFROM:+0100
TZOFFSETTO:+0200
TZNAME:CEST
DTSTART:20250330T010000
END:DAYLIGHT
BEGIN:STANDARD
TZOFFSETFROM:+0200
TZOFFSETTO:+0100
TZNAME:CET
DTSTART:20251026T010000
END:STANDARD
BEGIN:DAYLIGHT
TZOFFSETFROM:+0100
TZOFFSETTO:+0200
TZNAME:CEST
DTSTART:20260329T010000
END:DAYLIGHT
BEGIN:STANDARD
TZOFFSETFROM:+0200
TZOFFSETTO:+0100
TZNAME:CET
DTSTART:20261025T010000
END:STANDARD
BEGIN:DAYLIGHT
TZOFFSETFROM:+0100
TZOFFSETTO:+0200
TZNAME:CEST
DTSTART:20270328T010000
END:DAYLIGHT
BEGIN:STANDARD
TZOFFSETFROM:+0200
TZOFFSETTO:+0100
TZNAME:CET
DTSTART:20271031T010000
END:STANDARD
END:VTIMEZONE
BEGIN:VEVENT
DTSTART;TZID=Europe/Berlin:20260419T100000
DTEND;TZID=Europe/Berlin:20260419T170000
DTSTAMP:20260421T105443
CREATED:20260107T131258Z
LAST-MODIFIED:20260314T193702Z
UID:4724-1776592800-1776618000@naturfreunde-radgruppe-stuttgart.de
SUMMARY:So.19.04.26: Frühlingserwachen auf den Fildern
DESCRIPTION:Vom Bahnhof S-Vaihingen radeln wir über Plieningen nach Neuhausen über die Fildern im Frühling. Von der Oberensinger Höhe hinunter ins Aichtal und dort entlang bis ins Siebenmühlental gelangen wir am Ende zum S-Bahnhof Oberaichen. \nDie Strecke führt über Felder und Wiesen mit schönen Ausblicken bis zur Alb\, längere Abschnitte in Wäldern und entlang von Bächen machen das Ganze sehr abwechslungsreich. Einkehr ist vorgesehen\, für unterwegs bitte auf jeden Fall Vesper und Getränke mitbringen. \nLänge: ca. 55 km\, leicht sportlich\nTreffpunkt: 10:00 Uhr\, Bahnhof S-Vaihingen (Hinterausgang Industriestraße)\nKosten: ggf. VVS + 5 € für Gäste.\nInfo: Friederike Votteler + Peter Pipiorke 0170 29 30 10 9
URL:https://naturfreunde-radgruppe-stuttgart.de/event/so-19-04-26-fruehlingserwachen/
CATEGORIES:Sonntagstour
END:VEVENT
END:VCALENDAR